BEGIN:VCALENDAR
VERSION:2.0
PRODID:
BEGIN:VEVENT
UID:145246imp
DTSTAMP:20260419T183413Z
DTSTART:20270322T200000Z
DTEND:20270322T210000Z
SUMMARY: K2's Harnessing ChatGPT 26-27
DESCRIPTION: Are you ready to maximize the utility of ChatGPT" If so\, participate in this session to learn how to leverage this tool's best features and options\n 
CLASS:PUBLIC
END:VEVENT
END:VCALENDAR
