BEGIN:VCALENDAR
VERSION:2.0
PRODID:
BEGIN:VEVENT
UID:145250imp
DTSTAMP:20260420T094247Z
DTSTART:20270104T160000Z
DTEND:20270104T193000Z
SUMMARY: K2's Improving Productivity With Microsoft 365 Cloud Tools 26-27
DESCRIPTION: Isn't it time you learned how to unlock the full potential of Microsoft 365 and take advantage of critical features available in your Microsoft 365 subscription" In this session\, you will learn to use tools such as Teams\, Planner\, Power Automate and others to enhance productivity and efficiency\n 
CLASS:PUBLIC
END:VEVENT
END:VCALENDAR
