BEGIN:VCALENDAR
VERSION:2.0
PRODID:
BEGIN:VEVENT
UID:145252imp
DTSTAMP:20260421T012000Z
DTSTART:20260909T150000Z
DTEND:20260909T183000Z
SUMMARY: K2's Mastering Advanced Excel Functions 26-27
DESCRIPTION: Are you ready to move past Excel's simple functions\, such as SUM" If so\, participate in this session to learn about many of Excel's advanced functions\, including XLOOKUP\, SUMIFS and SWITCH. You'll also learn about the revolutionary Dynamic Arrays feature\n 
CLASS:PUBLIC
END:VEVENT
END:VCALENDAR
