BEGIN:VCALENDAR
VERSION:2.0
PRODID:
BEGIN:VEVENT
UID:145262imp
DTSTAMP:20260420T032304Z
DTSTART:20270126T160000Z
DTEND:20270126T233000Z
SUMMARY: K2's Technology For CPAs - Don’t Get Left Behind 26-27
DESCRIPTION: Technology changes daily\, so it's essential to stay up-to-date with critical developments to effectively leverage today's technologies. Join us for this session to explore key technological developments impacting accounting and financial professionals\n 
CLASS:PUBLIC
END:VEVENT
END:VCALENDAR
