BEGIN:VCALENDAR
VERSION:2.0
PRODID:
BEGIN:VEVENT
UID:145266imp
DTSTAMP:20260419T200416Z
DTSTART:20270224T180000Z
DTEND:20270224T200000Z
SUMMARY: K2's Ten “Must-Know” Features In Excel 26-27
DESCRIPTION: Microsoft Excel is perhaps the most used business application today. Yet\, many Excel users remain bogged down in yesterday's spreadsheet practices. Participate in this session to master ten terrific features you should use to enhance your productivity with Excel\n 
CLASS:PUBLIC
END:VEVENT
END:VCALENDAR
