BEGIN:VCALENDAR
VERSION:2.0
PRODID:
BEGIN:VEVENT
UID:145275imp
DTSTAMP:20260419T182252Z
DTSTART:20270407T150000Z
DTEND:20270407T223000Z
SUMMARY: Accounting Industry Update 26-27
DESCRIPTION: Stay current on recent changes in accounting and auditing. Review Financial Accounting Standards Board (FASB)\, U.S. Securities and Exchange Commission (SEC)\, Private Company Council (PCC)\, Public Company Accounting Oversight Board (PCAOB) and American Institute of Certified Public Accountants (AICPA) standard-setting activity in the current year. Implementation dates will be provided so you can plan for changes and the course will highlight the changes that will be implemented in the current year. Also\, we'll discuss the difference between public and private company requirements\n 
CLASS:PUBLIC
END:VEVENT
END:VCALENDAR
