BEGIN:VCALENDAR
VERSION:2.0
PRODID:
BEGIN:VEVENT
UID:145278imp
DTSTAMP:20260420T190439Z
DTSTART:20261103T140000Z
DTEND:20261104T213000Z
SUMMARY: Auditing Standards: A Comprehensive Review 26-27
DESCRIPTION: From understanding fraud requirements to improving risk assessment procedures and from testing to meeting auditing standards\, discover ways to audit more effectively and efficiently. Engage in discussions that cover reducing risk and effective planning\, research and documentation. Review various case studies\, real-life examples and sample documentation will reinforce ideas. This course meets the specific California Board of Accountancy requirements that CPAs are required to meet for re-issuance of their license\n 
CLASS:PUBLIC
END:VEVENT
END:VCALENDAR
