BEGIN:VCALENDAR
VERSION:2.0
PRODID:
BEGIN:VEVENT
UID:145282imp
DTSTAMP:20260420T063914Z
DTSTART:20270112T160000Z
DTEND:20270113T233000Z
SUMMARY: Auditing Standards: A Comprehensive Review 26-27
DESCRIPTION: From understanding fraud requirements to improving risk assessment procedures and from testing to meeting auditing standards\, discover ways to audit more effectively and efficiently. Engage in discussions that cover reducing risk and effective planning\, research and documentation. Review various case studies\, real-life examples and sample documentation will reinforce ideas. This course meets the specific California Board of Accountancy requirements that CPAs are required to meet for re-issuance of their license\n 
CLASS:PUBLIC
END:VEVENT
END:VCALENDAR
