BEGIN:VCALENDAR
VERSION:2.0
PRODID:
BEGIN:VEVENT
UID:145285imp
DTSTAMP:20260420T171809Z
DTSTART:20261105T160000Z
DTEND:20261106T233000Z
SUMMARY: Financial Accounting Standards: A Comprehensive Review 26-27
DESCRIPTION: This two-day\, interactive workshop reviews the hottest accounting topics and recent changes in areas such as private company accounting\, revenue recognition\, going concern and other specialized subjects. Refresh your research skills and practice using the Codification. Case studies and real-life examples will help attendees readily apply the information covered\n 
CLASS:PUBLIC
END:VEVENT
END:VCALENDAR
