BEGIN:VCALENDAR
VERSION:2.0
PRODID:
BEGIN:VEVENT
UID:145290imp
DTSTAMP:20260420T154832Z
DTSTART:20260623T150000Z
DTEND:20260623T223000Z
SUMMARY: Statement of Cash Flows: Preparation & Analysis Workshop 26-27
DESCRIPTION: The statement of cash flows is a critical component of a company's set of financial statements. Cover the proper preparation of the statement\, including analysis techniques. Learn how financial statements enable CPAs and financial professionals to see a business's cash inflows and outflows relating to operating\, investing and financing activities and evaluation of liquidity and quality of earnings. Case studies and sample documentation reinforce significant concepts and help participants apply the analysis techniques discussed\n 
CLASS:PUBLIC
END:VEVENT
END:VCALENDAR
