BEGIN:VCALENDAR
VERSION:2.0
PRODID:
BEGIN:VEVENT
UID:145301imp
DTSTAMP:20260421T044902Z
DTSTART:20260824T170000Z
DTEND:20260824T190000Z
SUMMARY: Fiduciary Accounting Part II: Tools\, Rules & Relationship to Tax 26-27
DESCRIPTION: To properly account for estates and non-grantor trusts\, an advisor must understand the statutory requirements to account\, the proper classification of revenue and expenses in a chart of account and the importance of provisions in the estate planning document. Additionally\, the differences and similarities to fiduciary taxation must be understood. Be sure to register for all four parts: Fiduciary Accounting Part I: Fiduciary Duty Basics & Authority Fiduciary Accounting Part II: Tools\, Rules and Relationship to Tax Fiduciary Accounting Part III: Special Accounting Elections & Distributions from Entities Fiduciary Accounting Part IIII: The New Frontier (Total Return Trusts)\n  
CLASS:PUBLIC
END:VEVENT
END:VCALENDAR
