BEGIN:VCALENDAR
VERSION:2.0
PRODID:
BEGIN:VEVENT
UID:145303imp
DTSTAMP:20260421T013750Z
DTSTART:20260731T150000Z
DTEND:20260731T170000Z
SUMMARY: Fiduciary Accounting Part III: Special Accounting Elections & Distributions 26-27
DESCRIPTION: Trusts are old entities and go as far back as the Crusades when we were an agrarian society and the only asset of any value was the land and what was produced on the land. Therefore\, dividing the benefit in a trust between income and principal was logical and worked efficiently for a long time. However\, times have significantly changed and trusts are often invested in assets that don't involve land and these assets also have great value. Often\, the value lies in their growth rather than their income. New rules have developed in the fiduciary accounting area that provide elections that often result in favorable benefits to the trust and the beneficiaries. This course will explore those elections. Be sure to register for all four parts: Fiduciary Accounting Part I: Fiduciary Duty Basics & Authority Fiduciary Accounting Part II: Tools\, Rules and Relationship to Tax Fiduciary Accounting Part III: Special Accounting Elections & Distributions from Entities Fiduciary Accounting Part IIII: The New Frontier (Total Return Trusts)\n  
CLASS:PUBLIC
END:VEVENT
END:VCALENDAR
