BEGIN:VCALENDAR
VERSION:2.0
PRODID:
BEGIN:VEVENT
UID:145310imp
DTSTAMP:20260420T190914Z
DTSTART:20261027T150000Z
DTEND:20261027T170000Z
SUMMARY: Fiduciary Taxation Part I: Introduction to Form 1041 26-27
DESCRIPTION: Form 1041 is considered a complicated return by many practitioners and the complexities have increased with recent legislation. This stems from the fact that there is terminology specific only to fiduciary entities\, special accounting rules that fall somewhere between book and tax and odd calculations such as "distributable net income" and "deductible DNI.&mdash\; In this series of webcasts and through a series of schematics and spreadsheets\, some of the mystery will be removed from the workings of fiduciary taxation and be replaced with an understanding of the structure and consistency that underlies this interesting little entity that has been around since the Crusades and has a long history of use and effectiveness. Be sure to register for all courses in this series: Fiduciary Taxation Part I: Introduction to Form 1041 Fiduciary Taxation Part II: Fiduciary Accounting & Simple Trusts Fiduciary Taxation Part III: Complex Trusts & Charitable Deduction Fiduciary Taxation Part IIII: Miscellaneous Topics & AMT\n  
CLASS:PUBLIC
END:VEVENT
END:VCALENDAR
