BEGIN:VCALENDAR
VERSION:2.0
PRODID:
BEGIN:VEVENT
UID:145312imp
DTSTAMP:20260421T031641Z
DTSTART:20260810T170000Z
DTEND:20260810T190000Z
SUMMARY: Fiduciary Taxation Part II: Fiduciary Accounting & Simple Trusts 26-27
DESCRIPTION: In Part II of this four-part series\, we'll focus on the concept of fiduciary accounting and its relationship to fiduciary taxation. It also addresses the identification of a "simple trust" for purposes of taxation. Problem examples will cover both the calculation of fiduciary accounting and the taxation of simple trusts through the use of an Excel spreadsheet that translates to a completed Form 1041. Be sure to register for all courses in this series: Fiduciary Taxation Part I: Introduction to Form 1041 Fiduciary Taxation Part II: Fiduciary Accounting & Simple Trusts Fiduciary Taxation Part III: Complex Trusts & Charitable Deduction Fiduciary Taxation Part IIII: Miscellaneous Topics & AMT\n  
CLASS:PUBLIC
END:VEVENT
END:VCALENDAR
