BEGIN:VCALENDAR
VERSION:2.0
PRODID:
BEGIN:VEVENT
UID:145315imp
DTSTAMP:20260421T031527Z
DTSTART:20260812T150000Z
DTEND:20260812T170000Z
SUMMARY: Fiduciary Taxation Part III: Complex Trusts & Charitable Deduction 26-27
DESCRIPTION: During Part III\, of this 4-part series\, we'll focus on the accounting and taxation of Complex Trusts. Using a series of calculations\, determine whether the fiduciary or the beneficiary bears the burden of taxation and if the trust or estate is treated as a taxpaying entity or a conduit. The requirements and use of a charitable contribution deduction are also reviewed and its relationship with and difference from fiduciary accounting. Be sure to register for all courses in this series: Fiduciary Taxation Part I: Introduction to Form 1041 Fiduciary Taxation Part II: Fiduciary Accounting & Simple Trusts Fiduciary Taxation Part III: Complex Trusts & Charitable Deduction Fiduciary Taxation Part IIII: Miscellaneous Topics & AMT\n  
CLASS:PUBLIC
END:VEVENT
END:VCALENDAR
