BEGIN:VCALENDAR
VERSION:2.0
PRODID:
BEGIN:VEVENT
UID:145322imp
DTSTAMP:20260420T154831Z
DTSTART:20261123T160000Z
DTEND:20261123T180000Z
SUMMARY: Form 1041 Advanced Series Part I: Why Complex Trusts are Complicated 26-27
DESCRIPTION: The first course in a four-part series\, fiduciary accounting and taxation field\, has transitioned over the past several years with updated rules and the increased tax cost of accumulating income in a non-grantor trust. The changes in the income tax rate structure at the federal and state levels have pulled income tax planning forward as a prime objective for estate planners. The rules and understanding of fiduciary accounting continue to be in a state of development and challenge. It is an understatement to say that fiduciary accounting and taxation have entered a new and very different phase of complexity and change. We will explore many of these issues in Parts 1-4 of Form 1041 Advanced Series. Be sure to register for all courses in this series: Form 1041 Advanced Series Part I: Why Complex Trusts are Complicated Form 1041 Advanced Series Part II: Cash & Property Distribution Issues Form 1041 Advanced Series Part III: Sec. 199. Sec. 67(g) & Charitable Deductions Form 1041 Advanced Series Part IIII: Post Mortem Considerations\n  
CLASS:PUBLIC
END:VEVENT
END:VCALENDAR
