BEGIN:VCALENDAR
VERSION:2.0
PRODID:
BEGIN:VEVENT
UID:145329imp
DTSTAMP:20260420T051314Z
DTSTART:20270114T160000Z
DTEND:20270114T180000Z
SUMMARY: Form 1041 Advanced Series Part III: Sec.199\, Sec.67g & Charitable Deductions 26-27
DESCRIPTION: During Part III\, of this 4-part series\, we'll focus on the challenges preparers of fiduciary tax returns face when trying to apply new tax laws often targeted for individuals to non-grantor trusts. This webinar explores in depth the limitations posed by the new tax rules under IRC Sec. 67(g). It also explores presentation issues when the entity has Qualified Business Income (QBI) that results in a Sec. 199A deduction. Lastly\, it explores difficult issues that can arise with the charitable contribution deduction. Be sure to register for all courses in this series: Form 1041 Advanced Series Part I: Why Complex Trusts are Complicated Form 1041 Advanced Series Part II: Cash & Property Distribution Issues Form 1041 Advanced Series Part III: Sec. 199. Sec. 67(g) & Charitable Deductions Form 1041 Advanced Series Part IIII: Post Mortem Considerations\n  
CLASS:PUBLIC
END:VEVENT
END:VCALENDAR
