BEGIN:VCALENDAR
VERSION:2.0
PRODID:
BEGIN:VEVENT
UID:145332imp
DTSTAMP:20260420T045955Z
DTSTART:20270114T180000Z
DTEND:20270114T200000Z
SUMMARY: Form 1041 Advanced Series Part IIII: Post Mortem Considerations 26-27
DESCRIPTION: This final segment of our four-part Form 1041 series addresses the special income tax issues that arise on the grantor's death or the first spouse. The once docile revocable living trust ignored for income tax purposes now comes to life and requires attention. Trust administration is just as rigorous as probate administration\, if not more rigorous. We will review the importance of an approach to Trust Administration and the important income tax tools available to the fiduciary. Be sure to register for all courses in this series: Form 1041 Advanced Series Part I: Why Complex Trusts are Complicated Form 1041 Advanced Series Part II: Cash & Property Distribution Issues Form 1041 Advanced Series Part III: Sec. 199. Sec. 67(g) & Charitable Deductions Form 1041 Advanced Series Part IIII: Post Mortem Considerations\n  
CLASS:PUBLIC
END:VEVENT
END:VCALENDAR
