BEGIN:VCALENDAR
VERSION:2.0
PRODID:
BEGIN:VEVENT
UID:145336imp
DTSTAMP:20260419T202055Z
DTSTART:20270317T130000Z
DTEND:20270317T203000Z
SUMMARY: Divorce Concerns: Taxes\, Valuation\, Finances\, Retirement\, & Obligations 26-27
DESCRIPTION: When contemplating a divorce\, financial\, retirement and tax issues are critical. Many clients need to think through the problems that are about to unfold. As a result\, they need more time to be ready. Therefore\, understanding\, assessing and deciding how to proceed is essential before completing the marital separation agreement. Discover how to re-design your client's financial plan with these unforeseen issues now part of the mainstream. During this course\, you'll learn business valuation\; discuss property\, retirement and other assets\; gain insights on the tax and financial ramifications of divorce\; and navigate the assessment and division of financial assets before\, during and after the divorce\n 
CLASS:PUBLIC
END:VEVENT
END:VCALENDAR
