BEGIN:VCALENDAR
VERSION:2.0
PRODID:
BEGIN:VEVENT
UID:145346imp
DTSTAMP:20260419T182900Z
DTSTART:20270329T170000Z
DTEND:20270329T190000Z
SUMMARY: PFP Update: Issues\, Exposures & Developing Client Strategy 26-27
DESCRIPTION: Our clients' personal financial planning issues are quickly developing and keep us challenged in a new operating environment! Many new approaches are needed in working through\, understanding\, diagnosing and then adopting innovative and proven strategies. Additional ways of experiencing these client situations are entering the picture. With information overload\, part of the CPA's challenge is to help clients stay focused on goals while managing expectations in a rapidly changing environment. This course will update you on the newest personal financial planning changes related to insurance\, investments\, education\, retirement\, estate\, cash flow management\, divorce\, closely held businesses and other relevant topics. We'll discuss critical issues\, including planning for education\, divorce\, charitable\, exceptional circumstances\, business owners and highly compensated executives. Be sure to register for all of our PFP updates: PFP Update: Income Tax\, Retirement and Estate Planning PFP Update: Issues\, Exposures and Developing Client Strategy PFP Update: Investment Planning in This New Era\n  
CLASS:PUBLIC
END:VEVENT
END:VCALENDAR
