BEGIN:VCALENDAR
VERSION:2.0
PRODID:
BEGIN:VEVENT
UID:145360imp
DTSTAMP:20260420T234905Z
DTSTART:20260728T170000Z
DTEND:20260728T180000Z
SUMMARY: 2026 Business Tax Credits
DESCRIPTION: Tax credit and incentive programs offer significant but rarely utilized savings. This presentation will introduce the most important federal and California tax credits and incentives available to business taxpayers. Attendees will hear an overview of these benefits and learn how to identify these opportunities for their clients\n 
CLASS:PUBLIC
END:VEVENT
END:VCALENDAR
