BEGIN:VCALENDAR
VERSION:2.0
PRODID:
BEGIN:VEVENT
UID:145364imp
DTSTAMP:20260420T050738Z
DTSTART:20270122T180000Z
DTEND:20270122T190000Z
SUMMARY: 2026 Business Tax Credits
DESCRIPTION: Tax credit and incentive programs offer significant but rarely utilized savings. This presentation will introduce the most important federal and California tax credits and incentives available to business taxpayers. Attendees will hear an overview of these benefits and learn how to identify these opportunities for their clients\n 
CLASS:PUBLIC
END:VEVENT
END:VCALENDAR
