BEGIN:VCALENDAR
VERSION:2.0
PRODID:
BEGIN:VEVENT
UID:145373imp
DTSTAMP:20260420T190735Z
DTSTART:20261103T160000Z
DTEND:20261103T233000Z
SUMMARY: Estate Planning: A Comprehensive Overview 26-27
DESCRIPTION: To get started in estate planning\, learn the basics of intestate succession\, probate\, wills\, health care directives\, general powers of attorney\, trusts\, gift and estate tax planning\, as well as transfers of assets. Become familiar with some basics of transfer tax planning\, including A-B trusts and QTIPs/marital deduction planning\, portability\, planning with life insurance trusts\, family limited partnerships and more. Also\, particular attention will be paid to the human elements that are impacted by estate planning and related tax strategies\n 
CLASS:PUBLIC
END:VEVENT
END:VCALENDAR
