BEGIN:VCALENDAR
VERSION:2.0
PRODID:
BEGIN:VEVENT
UID:145378imp
DTSTAMP:20260420T032224Z
DTSTART:20270126T170000Z
DTEND:20270126T183000Z
SUMMARY: Tax Talks January 2027
DESCRIPTION: Join the Team from Hochman\, Salkin\, Toscher\, & Perez for a LIVE tax-based series with a new topic at each Session. Past conversations have included crypto tax compliance\, BBA Partnerships\, Federal and State Residency issues\, Partnership examinations\, Form 8300 and more. Check back regularly for topics and be sure to register for them all. Tax Talks Series April 21\, 2026 June 16\, 2026 August 18\, 2026 October 20\, 2026 January 26\, 2027 April 20\, 2027\n  
CLASS:PUBLIC
END:VEVENT
END:VCALENDAR
