BEGIN:VCALENDAR
VERSION:2.0
PRODID:
BEGIN:VEVENT
UID:145380imp
DTSTAMP:20260419T174333Z
DTSTART:20260518T170000Z
DTEND:20260518T190000Z
SUMMARY: Understanding Apportionment for a Multistate Business 26-27
DESCRIPTION: Apportionment has never been more challenging. States use different methods and sourcing rules for the same transaction. Become the expert in your office on current issues affecting apportionment\, such as the apportionment formulas used by other states. Understand sourcing rules and most importantly\, learn to structure transactions so clients aren't taxed on the same income in multiple states. Review how apportionment applies to flow-through entities and their owners. Companion Course: Multistate Nexus Requirements\n  
CLASS:PUBLIC
END:VEVENT
END:VCALENDAR
