BEGIN:VCALENDAR
VERSION:2.0
PRODID:
BEGIN:VEVENT
UID:145383imp
DTSTAMP:20260419T210209Z
DTSTART:20260521T150000Z
DTEND:20260521T183000Z
SUMMARY: Firm Ethics -- A Practical Approach 26-27
DESCRIPTION: In this course\, you'll review what ethics means for a CPA firm and how to use the rules. The interactive workshop is designed for practitioners in small and medium-sized CPA firms and includes generous time for questions and case studies. \n  \nNote: This course qualifies to count toward the WICPA membership Ethics CPE requirement. \n  
CLASS:PUBLIC
END:VEVENT
END:VCALENDAR
