BEGIN:VCALENDAR
VERSION:2.0
PRODID:
BEGIN:VEVENT
UID:145399imp
DTSTAMP:20260420T063840Z
DTSTART:20270106T140000Z
DTEND:20270106T213000Z
SUMMARY: Preparation\, Compilations & Reviews--A Practical Workshop 26-27
DESCRIPTION: Participants will go over the changes on preparation\, compilation and review engagements using SSARS rules\, followed by a general overview of how to perform these services. This interactive workshop is designed for practitioners in small and medium-sized CPA firms and will include a lecture with generous time for questions and case studies\n 
CLASS:PUBLIC
END:VEVENT
END:VCALENDAR
