BEGIN:VCALENDAR
VERSION:2.0
PRODID:
BEGIN:VEVENT
UID:145404imp
DTSTAMP:20260420T033305Z
DTSTART:20270125T160000Z
DTEND:20270125T193000Z
SUMMARY: Fraud --How to Find\, How to Prevent 26-27
DESCRIPTION: Participants will review how to maintain a heightened awareness of fraud with clients and gain a better understanding of how to detect fraud. This interactive workshop\, designed for practitioners in small and medium-sized CPA firms\, will include a lecture with generous time for questions and case studies to reinforce the concepts\n 
CLASS:PUBLIC
END:VEVENT
END:VCALENDAR
