BEGIN:VCALENDAR
VERSION:2.0
PRODID:
BEGIN:VEVENT
UID:145409imp
DTSTAMP:20260420T141903Z
DTSTART:20261207T160000Z
DTEND:20261207T193000Z
SUMMARY: Practical Accounting Update 26-27
DESCRIPTION: In this dynamic course\, we'll delve into essential updates and equip you with the practical knowledge to navigate the latest changes in the field. Need insights on how the shift from the Statements on Quality Control Standards (SQCSs) to the Statement on Quality Management Standards (SQMSs) will affect your practice" We have you covered. Questions about cybersecurity requirements for CPAs" Arm yourself with practical strategies to protect your clients and firm in an increasingly digital world. From the newest accounting rules to mastering new audit standards\, we'll explore the newest developments to help you navigate the changes\n 
CLASS:PUBLIC
END:VEVENT
END:VCALENDAR
