BEGIN:VCALENDAR
VERSION:2.0
PRODID:
BEGIN:VEVENT
UID:145414imp
DTSTAMP:20260420T033347Z
DTSTART:20270128T160000Z
DTEND:20270128T193000Z
SUMMARY: How to Review Financial Statements 26-27
DESCRIPTION: In this hands-on workshop\, participants will deepen their understanding of the financial statement review process. Designed specifically for small and medium-sized CPA firms\, this interactive session combines a comprehensive lecture with ample time for questions and practical case studies. You'll gain valuable insights into best practices for reviewing financial statements\, ensuring accuracy and compliance with current standards\n 
CLASS:PUBLIC
END:VEVENT
END:VCALENDAR
