BEGIN:VCALENDAR
VERSION:2.0
PRODID:
BEGIN:VEVENT
UID:145418imp
DTSTAMP:20260419T201936Z
DTSTART:20270218T160000Z
DTEND:20270218T180000Z
SUMMARY: Nonprofit A&A Series Part I: Financial Statement Presentation & Disclosure 26-27
DESCRIPTION: Part I of a 2-part series is an overview of GAAP requirements for nonprofit organizations and will help you become proficient in nonprofit financial reporting. This webcast focuses on presentation and disclosure unique to nonprofit organizations. Be sure to register for the next in the series: Nonprofit A&A Series Part II: Revenue Recognition\n 
CLASS:PUBLIC
END:VEVENT
END:VCALENDAR
