BEGIN:VCALENDAR
VERSION:2.0
PRODID:
BEGIN:VEVENT
UID:145421imp
DTSTAMP:20260420T125732Z
DTSTART:20261214T180000Z
DTEND:20261214T200000Z
SUMMARY: Nonprofit A&A Series Part II: Revenue Recognition 26-27
DESCRIPTION: Part II of a 2-part series is an overview of GAAP requirements for nonprofit organizations and will help you become proficient in nonprofit financial reporting. This session focuses on revenue recognition.  Be sure to register for Part I in the series: Nonprofit A&A Series Part I: Financial Statement Presentation & Disclosure\n  
CLASS:PUBLIC
END:VEVENT
END:VCALENDAR
