BEGIN:VCALENDAR
VERSION:2.0
PRODID:
BEGIN:VEVENT
UID:145426imp
DTSTAMP:20260419T201542Z
DTSTART:20270218T203000Z
DTEND:20270218T223000Z
SUMMARY: Nonprofit A&A Standards Update & New Developments 26-27
DESCRIPTION: Stay current with this deep dive into accounting for and auditing nonprofit revenue streams. During this session\, we'll review recent new standards. The case studies will include familiar and complex situations and audit techniques to identify potential misstatements\n 
CLASS:PUBLIC
END:VEVENT
END:VCALENDAR
