BEGIN:VCALENDAR
VERSION:2.0
PRODID:
BEGIN:VEVENT
UID:145430imp
DTSTAMP:20260419T164714Z
DTSTART:20270419T150000Z
DTEND:20270419T170000Z
SUMMARY: Form 706 Preparation Part I: Overview Including Portability 26-27
DESCRIPTION: This section of the four-part series will cover basic Form 706 preparation and help participants develop a solid foundation in preparing the federal estate tax return. It will also cover running the engagement\, administration issues and completing pages 1-4 of the form\, including the portability election. For example\, worksheets and practice resources will be provided. Form 706 Series: Part I: Overview Including Portability Part II: Reporting Assets Part III: Reporting Deductions Part IIII: GST Schedule R\, Form 8971\, Payments & Credits\n  
CLASS:PUBLIC
END:VEVENT
END:VCALENDAR
