BEGIN:VCALENDAR
VERSION:2.0
PRODID:
BEGIN:VEVENT
UID:145434imp
DTSTAMP:20260419T164709Z
DTSTART:20270419T170000Z
DTEND:20270419T190000Z
SUMMARY: Form 706 Preparation Part II: Reporting Assets 26-27
DESCRIPTION: This section of the 4-part series will cover basic form preparation of Form 706 and help participants develop a solid foundation in preparing the federal estate tax return. This section will cover running the engagement\, administration issues and completion of pages 1-4 of the form\, including portability election. For examples\, worksheets and practice resources will be provided. Form 706 Series: Part I: Overview Including Portability Part II: Reporting Assets Part III: Reporting Deductions Part IIII: GST Schedule R\, Form 8971\, Payments & Credits\n  
CLASS:PUBLIC
END:VEVENT
END:VCALENDAR
