BEGIN:VCALENDAR
VERSION:2.0
PRODID:
BEGIN:VEVENT
UID:145436imp
DTSTAMP:20260420T203733Z
DTSTART:20261021T150000Z
DTEND:20261021T170000Z
SUMMARY: Form 706 Preparation Part III: Reporting Deductions 26-27
DESCRIPTION: This section of the four-part series will cover the fundamentals of Form 706 and provide numerous examples of how to properly report deductions on the estate tax return\, including marital and charitable deductions. Form 706 Series: Part I: Overview Including Portability Part II: Reporting Assets Part III: Reporting Deductions Part IIII: GST Schedule R\, Form 8971\, Payments & Credits\n  
CLASS:PUBLIC
END:VEVENT
END:VCALENDAR
