BEGIN:VCALENDAR
VERSION:2.0
PRODID:
BEGIN:VEVENT
UID:145442imp
DTSTAMP:20260419T164741Z
DTSTART:20270420T170000Z
DTEND:20270420T190000Z
SUMMARY: Form 706 Preparation Part IIII: GST Schedule R\, Form 8971\, Payments & Credits 26-27
DESCRIPTION: This four-part series covers the fundamentals of Form 706. In this final course\, we will cover GST allocations on Schedule R\, Foreign Death Tax credit\, Prior Transfer credit\, Qualified Conservation Easements\, making the 6166 election for estate tax payment and considering a Graegin or other loan to pay the estate tax. Illustrations of attachments and/or narrative examples for Schedule R will be provided. Form 706 Series: Part I: Overview Including Portability Part II: Reporting Assets Part III: Reporting Deductions Part IIII: GST Schedule R\, Form 8971\, Payments & Credits\n  
CLASS:PUBLIC
END:VEVENT
END:VCALENDAR
