BEGIN:VCALENDAR
VERSION:2.0
PRODID:
BEGIN:VEVENT
UID:145446imp
DTSTAMP:20260420T064051Z
DTSTART:20270111T180000Z
DTEND:20270111T200000Z
SUMMARY: Form 709 Guidance: Gift Tax & Generation-Skipping Transfer Returns 26-27
DESCRIPTION: Form 709 is filed by many tax practitioners but are frequently filed incorrectly. Especially troublesome is reporting the gift correctly on Schedule A\, making the correct GST allocations and meeting the adequate disclosure requirements. This program will review common problems for preparers and provide examples of presentations for many of the frequently reported gifts in recent years\n 
CLASS:PUBLIC
END:VEVENT
END:VCALENDAR
