BEGIN:VCALENDAR
VERSION:2.0
PRODID:
BEGIN:VEVENT
UID:145452imp
DTSTAMP:20260420T171811Z
DTSTART:20270129T170000Z
DTEND:20270129T180000Z
SUMMARY: International Tax Forum January 2027
DESCRIPTION: Every month\, a new international tax topic. Join the Hodgen Law team live'fresh insights\, straight from the source. Check back for specific topics\, as they're updated monthly. 2026 Dates: May 29\, June 26\, July 31\, August 28\, September 25\, October 30\, November 20\, December 18 2027 Dates: February 26\, March 26\, April 30\n  
CLASS:PUBLIC
END:VEVENT
END:VCALENDAR
