BEGIN:VCALENDAR
VERSION:2.0
PRODID:
BEGIN:VEVENT
UID:145464imp
DTSTAMP:20260419T195647Z
DTSTART:20270316T150000Z
DTEND:20270316T183000Z
SUMMARY: World Class Cost Accounting: A Practical Application -- Part I 26-27
DESCRIPTION: Enhance your career with an invaluable skill set in this two-part series\, where you'll explore the cost system of a real company from the ground up. Learn how to link variable and base costs\, identify fluctuating and semi-fixed direct costs and accurately trace direct materials\, labor and labor burden to products. Gain practical tools for budgeting\, setting standard costs and seamlessly embedding Activity-Based Costing (ABC) into a comprehensive cost system. Be sure to also register for Part II: World Class Cost Accounting: A Practical Application - Part II\n  
CLASS:PUBLIC
END:VEVENT
END:VCALENDAR
