BEGIN:VCALENDAR
VERSION:2.0
PRODID:
BEGIN:VEVENT
UID:145472imp
DTSTAMP:20260420T171812Z
DTSTART:20260625T130000Z
DTEND:20260625T203000Z
SUMMARY: Pension & Profit-Sharing Plan Strategies 26-27
DESCRIPTION: Whether saving for retirement\, reducing taxes\, or combining the two\, pension and profit-sharing plan strategies are your go-to solution. Discover the type of plan documents that work best for your clients\, how to terminate a plan\, different retirement plans you can choose from\, contribution & deduction limits\, reporting & disclosure rules\, Form 5500 & participant communication requirements and even how to do in-plan Roth conversions. Get ready to make retirement planning for your clients a breeze\n 
CLASS:PUBLIC
END:VEVENT
END:VCALENDAR
