BEGIN:VCALENDAR
VERSION:2.0
PRODID:
BEGIN:VEVENT
UID:145478imp
DTSTAMP:20260420T015022Z
DTSTART:20260529T150000Z
DTEND:20260529T183000Z
SUMMARY: Form 5500 Annual Update 2026
DESCRIPTION: It's essential to stay current on Form 5500 filing rules and requirements. Get a practical review of Form 5500\, including 5500SF and 5500EZ. We'll discuss the changes for 2025 and how different government agencies use the form to target enforcement efforts. We'll review the related schedules\, how to report late contributions and what to do if your clients miss a filing deadline\n 
CLASS:PUBLIC
END:VEVENT
END:VCALENDAR
