BEGIN:VCALENDAR
VERSION:2.0
PRODID:
BEGIN:VEVENT
UID:145491imp
DTSTAMP:20260420T171918Z
DTSTART:20261105T160000Z
DTEND:20261105T233000Z
SUMMARY: Driving Corporate Performance: The CFO’s Role in Competitiveness 26-27
DESCRIPTION: Successful companies implement strategies that use their resources efficiently. By focusing on doing one thing well\, organizations can create a competitive advantage that provides superior performance.
Learn to create a roadmap to successful performance by tying the organization's metrics to its strategy and driving results\n 
CLASS:PUBLIC
END:VEVENT
END:VCALENDAR
