BEGIN:VCALENDAR
VERSION:2.0
PRODID:
BEGIN:VEVENT
UID:145496imp
DTSTAMP:20260421T025928Z
DTSTART:20260811T150000Z
DTEND:20260811T223000Z
SUMMARY: Metrics Management: Choose & Use Key Performance Indicators 26-27
DESCRIPTION: Financial managers have long struggled to drive results through their financial planning and control processes. This seminar shows how to build a performance management framework\, linking the company's high-level strategic objectives to performance metrics at the individual responsibility center level. The result will be an easier to use financial planning process that produces better projections and better control\n 
CLASS:PUBLIC
END:VEVENT
END:VCALENDAR
