BEGIN:VCALENDAR
VERSION:2.0
PRODID:
BEGIN:VEVENT
UID:145500imp
DTSTAMP:20260419T201619Z
DTSTART:20270303T160000Z
DTEND:20270303T233000Z
SUMMARY: Metrics Management: Choose & Use Key Performance Indicators 26-27
DESCRIPTION: Financial managers have long struggled to drive results through their financial planning and control processes. This seminar shows how to build a performance management framework\, linking the company's high-level strategic objectives to performance metrics at the individual responsibility center level. The result will be an easier to use financial planning process that produces better projections and better control\n 
CLASS:PUBLIC
END:VEVENT
END:VCALENDAR
