BEGIN:VCALENDAR
VERSION:2.0
PRODID:
BEGIN:VEVENT
UID:145502imp
DTSTAMP:20260420T190735Z
DTSTART:20261030T150000Z
DTEND:20261030T183000Z
SUMMARY: Shorten Month End: Closing Best Practices 26-27
DESCRIPTION: Surveys show that the average North American company completes its monthly financial statement closing in six days. However\, some companies can close their books in one day or less. You don't have to sacrifice accuracy for speed. This session will show you how to close month-end faster\, better and cheaper\n 
CLASS:PUBLIC
END:VEVENT
END:VCALENDAR
