BEGIN:VCALENDAR
VERSION:2.0
PRODID:
BEGIN:VEVENT
UID:145508imp
DTSTAMP:20260419T183413Z
DTSTART:20270325T150000Z
DTEND:20270325T223000Z
SUMMARY: Predicting the Future: 21st Century Budgets & Projections 26-27
DESCRIPTION: We all make predictions in our personal and professional lives. We base our decisions to marry\, buy a house\, launch a new product or hire staff on expectations about the future. How can we use best practices and current research to improve our ability to predict the future"
We will examine current best practices in forecasting to help us prepare better budgets and projections. We will also examine budgeting pitfalls and ways to avoid budget traps. We will discuss the risks that cause actual results to vary from our predictions and discuss methods to deal with both known and unknown risks\n 
CLASS:PUBLIC
END:VEVENT
END:VCALENDAR
