BEGIN:VCALENDAR
VERSION:2.0
PRODID:
BEGIN:VEVENT
UID:145510imp
DTSTAMP:20260420T222851Z
DTSTART:20261002T150000Z
DTEND:20261002T183000Z
SUMMARY: Staff Retention: Attract & Keep the Best People 26-27
DESCRIPTION: Does it seem like you spend far too much time recruiting" Do your people leave just as they become productive" If you think your turnover is because Millennials are different from earlier generations\, you probably are not looking at the real source of your problem. Learn the changes you should make now!\n  
CLASS:PUBLIC
END:VEVENT
END:VCALENDAR
