BEGIN:VCALENDAR
VERSION:2.0
PRODID:
BEGIN:VEVENT
UID:145511imp
DTSTAMP:20260420T051238Z
DTSTART:20270115T160000Z
DTEND:20270115T193000Z
SUMMARY: Staff Retention: Attract & Keep the Best People 26-27
DESCRIPTION: Does it seem like you spend far too much time recruiting" Do your people leave just as they become productive" If you think your turnover is because Millennials are different from earlier generations\, you probably are not looking at the real source of your problem. Learn the changes you should make now!\n  
CLASS:PUBLIC
END:VEVENT
END:VCALENDAR
