BEGIN:VCALENDAR
VERSION:2.0
PRODID:
BEGIN:VEVENT
UID:145516imp
DTSTAMP:20260420T013830Z
DTSTART:20270208T160000Z
DTEND:20270208T193000Z
SUMMARY: Balance Sheet Management: The Least Understood Risk 26-27
DESCRIPTION: Most organizations manage their income statement\, but many virtually ignore the balance sheet until balance sheet problems create seemingly insurmountable emergencies. This session discusses how to analyze and manage your financial statements more holistically\, allowing you to identify and
correct balance sheet issues early. How do you choose whether to raise debt or equity" What are the key considerations and the advantages of each" What is the cost of capital" What
are the "hidden" balance sheet risks" We will also examine several crucial ideas you can incorporate into your analyses to enhance performance and reduce risk. If you want to enhance your corporate finance skills\, this session is for you\n 
CLASS:PUBLIC
END:VEVENT
END:VCALENDAR
